BEGIN:VCALENDAR
VERSION:2.0
PRODID:-//Mission Hills Town Council - ECPv6.15.20//NONSGML v1.0//EN
CALSCALE:GREGORIAN
METHOD:PUBLISH
X-WR-CALNAME:Mission Hills Town Council
X-ORIGINAL-URL:https://www.missionhillstowncouncil.org
X-WR-CALDESC:Events for Mission Hills Town Council
REFRESH-INTERVAL;VALUE=DURATION:PT1H
X-Robots-Tag:noindex
X-PUBLISHED-TTL:PT1H
BEGIN:VTIMEZONE
TZID:America/Los_Angeles
BEGIN:DAYLIGHT
TZOFFSETFROM:-0800
TZOFFSETTO:-0700
TZNAME:PDT
DTSTART:20240310T100000
END:DAYLIGHT
BEGIN:STANDARD
TZOFFSETFROM:-0700
TZOFFSETTO:-0800
TZNAME:PST
DTSTART:20241103T090000
END:STANDARD
BEGIN:DAYLIGHT
TZOFFSETFROM:-0800
TZOFFSETTO:-0700
TZNAME:PDT
DTSTART:20250309T100000
END:DAYLIGHT
BEGIN:STANDARD
TZOFFSETFROM:-0700
TZOFFSETTO:-0800
TZNAME:PST
DTSTART:20251102T090000
END:STANDARD
BEGIN:DAYLIGHT
TZOFFSETFROM:-0800
TZOFFSETTO:-0700
TZNAME:PDT
DTSTART:20260308T100000
END:DAYLIGHT
BEGIN:STANDARD
TZOFFSETFROM:-0700
TZOFFSETTO:-0800
TZNAME:PST
DTSTART:20261101T090000
END:STANDARD
END:VTIMEZONE
BEGIN:VEVENT
DTSTART;TZID=America/Los_Angeles:20251212T080000
DTEND;TZID=America/Los_Angeles:20251212T133000
DTSTAMP:20260416T173719
CREATED:20251121T181553Z
LAST-MODIFIED:20251121T181553Z
UID:10000020-1765526400-1765546200@www.missionhillstowncouncil.org
SUMMARY:Girl Scout Troop 4043 Blood Drive
DESCRIPTION:Help Troop 4043 reach their goal of 25 unique blood donors on December 12 and be part of this movement to save 75 lives! Sign up for an appointment at this link or walk up that day and celebrate the gift of life with your neighbors.
URL:https://www.missionhillstowncouncil.org/event/girl-scout-troop-4043-blood-drive/
LOCATION:Pioneer Park\, 1521 Washington Pl\, San Diego\, CA\, 92103\, United States
CATEGORIES:Community Groups,Special Events
END:VEVENT
BEGIN:VEVENT
DTSTART;TZID=America/Los_Angeles:20250808T180000
DTEND;TZID=America/Los_Angeles:20250808T200000
DTSTAMP:20260416T173719
CREATED:20250730T053404Z
LAST-MODIFIED:20250730T191432Z
UID:10000017-1754676000-1754683200@www.missionhillstowncouncil.org
SUMMARY:Dirty Bird
DESCRIPTION:Please consider making a donation to the summer concert series by visiting the concert page. Your donations make these concerts possible. \nJoin us in Pioneer Park for the Mission Hills Concerts in the Park as we rock out with Dirty Bird Band. \nWhat to look out for: \n\nMore Information Coming Soon!\n\nFront-of-Stage Signage Provided By:\n\nSponsors coming soon!
URL:https://www.missionhillstowncouncil.org/event/concert-08-08/
LOCATION:Pioneer Park\, 1521 Washington Pl\, San Diego\, CA\, 92103\, United States
CATEGORIES:Concerts
ATTACH;FMTTYPE=image/png:https://www.missionhillstowncouncil.org/wp-content/uploads/2017/03/concerts_300.png
END:VEVENT
BEGIN:VEVENT
DTSTART;TZID=America/Los_Angeles:20250801T180000
DTEND;TZID=America/Los_Angeles:20250801T200000
DTSTAMP:20260416T173719
CREATED:20250730T053311Z
LAST-MODIFIED:20250730T190943Z
UID:10000016-1754071200-1754078400@www.missionhillstowncouncil.org
SUMMARY:The Detroit Underground
DESCRIPTION:Please consider making a donation to the summer concert series by visiting the concert page. Your donations make these concerts possible. \nJoin us in Pioneer Park for the Mission Hills Concerts in the Park as we rock out with The Detroit Undergound. \nWhat to look out for: \n\nMore Information Coming Soon!\n\nFront-of-Stage Signage Provided By:\n\nSponsors coming soon!
URL:https://www.missionhillstowncouncil.org/event/concert-08-01/
LOCATION:Pioneer Park\, 1521 Washington Pl\, San Diego\, CA\, 92103\, United States
CATEGORIES:Concerts
ATTACH;FMTTYPE=image/png:https://www.missionhillstowncouncil.org/wp-content/uploads/2017/03/concerts_300.png
END:VEVENT
BEGIN:VEVENT
DTSTART;TZID=America/Los_Angeles:20250725T180000
DTEND;TZID=America/Los_Angeles:20250725T200000
DTSTAMP:20260416T173719
CREATED:20250705T220445Z
LAST-MODIFIED:20250705T220445Z
UID:10000015-1753466400-1753473600@www.missionhillstowncouncil.org
SUMMARY:The Innocent Bystanders
DESCRIPTION:Please consider making a donation to the summer concert series by visiting the concert page. Your donations make these concerts possible. \nJoin us in Pioneer Park for the Mission Hills Concerts in the Park as we rock out with The Innocent Bystanders! \nLearn more about them here: https://theinnocentbystanders.com/ \nWhat to look out for: \n\nMore Information Coming Soon!\n\nFront-of-Stage Signage Provided By:\n\nSponsors coming soon!
URL:https://www.missionhillstowncouncil.org/event/the-innocent-bystanders/
LOCATION:Pioneer Park\, 1521 Washington Pl\, San Diego\, CA\, 92103\, United States
CATEGORIES:Concerts
ATTACH;FMTTYPE=image/png:https://www.missionhillstowncouncil.org/wp-content/uploads/2017/03/concerts_300.png
END:VEVENT
BEGIN:VEVENT
DTSTART;TZID=America/Los_Angeles:20250718T180000
DTEND;TZID=America/Los_Angeles:20250718T200000
DTSTAMP:20260416T173719
CREATED:20250705T213236Z
LAST-MODIFIED:20250705T220600Z
UID:10000014-1752861600-1752868800@www.missionhillstowncouncil.org
SUMMARY:Geezer
DESCRIPTION:Please consider making a donation to the summer concert series by visiting the concert page. Your donations make these concerts possible. \nJoin us in Pioneer Park for the Mission Hills Concerts in the Park as we rock out with Geezer! \nLearn more about them here: http://www.getoffofmylawn.com/ \nWhat to look out for: \n\nMore Information Coming Soon!\n\nFront-of-Stage Signage Provided By:\n\nSponsors coming soon!
URL:https://www.missionhillstowncouncil.org/event/geezer-2025-07-18/
LOCATION:Pioneer Park\, 1521 Washington Pl\, San Diego\, CA\, 92103\, United States
CATEGORIES:Concerts
ATTACH;FMTTYPE=image/png:https://www.missionhillstowncouncil.org/wp-content/uploads/2017/03/concerts_300.png
END:VEVENT
BEGIN:VEVENT
DTSTART;TZID=America/Los_Angeles:20250711T180000
DTEND;TZID=America/Los_Angeles:20250711T200000
DTSTAMP:20260416T173719
CREATED:20250618T223321Z
LAST-MODIFIED:20250702T011239Z
UID:10000013-1752256800-1752264000@www.missionhillstowncouncil.org
SUMMARY:Sundays at Midnight
DESCRIPTION:Please consider making a donation to the summer concert series by visiting the concert page. Your donations make these concerts possible. \nJoin us in Pioneer Park for the Mission Hills Concerts in the Park as we rock out with our local Mission Hills band\, Sundays at Midnight! \nLearn more about them here: https://www.facebook.com/SundaysAtMidnight \nWhat to look out for: \n\nMore Information Coming Soon!\n\nFront-of-Stage Signage Provided By:\n\nSponsors coming soon!
URL:https://www.missionhillstowncouncil.org/event/sundays-at-midnight/
LOCATION:Pioneer Park\, 1521 Washington Pl\, San Diego\, CA\, 92103\, United States
CATEGORIES:Concerts
ATTACH;FMTTYPE=image/png:https://www.missionhillstowncouncil.org/wp-content/uploads/2017/03/concerts_300.png
END:VEVENT
BEGIN:VEVENT
DTSTART;TZID=America/Los_Angeles:20250704T120000
DTEND;TZID=America/Los_Angeles:20250704T143000
DTSTAMP:20260416T173719
CREATED:20250618T223140Z
LAST-MODIFIED:20250623T204603Z
UID:10000012-1751630400-1751639400@www.missionhillstowncouncil.org
SUMMARY:The Don L Big Band
DESCRIPTION:Please consider making a donation to the summer concert series by visiting the concert page. Your donations make these concerts possible. \nJoin us in Pioneer Park for the Mission Hills Concerts in the Park as we enjoy the sounds of The Don L Big Band. \nView videos of them in action: https://youtu.be/d_f9IqEe9P4 or https://www.facebook.com/watch/?v=2998927246813914 \nLearn more about The Don L Big Band: https://www.facebook.com/donlshow/ \nWhat to look out for: \n\nMore Information Coming Soon!\n\nFront-of-Stage Signage Provided By:\n\nSponsor coming soon!\n 
URL:https://www.missionhillstowncouncil.org/event/the-don-l-big-band/
LOCATION:Pioneer Park\, 1521 Washington Pl\, San Diego\, CA\, 92103\, United States
CATEGORIES:4th of July,Concerts
ATTACH;FMTTYPE=image/png:https://www.missionhillstowncouncil.org/wp-content/uploads/2017/03/concerts_300.png
END:VEVENT
BEGIN:VEVENT
DTSTART;TZID=America/Los_Angeles:20250704T113000
DTEND;TZID=America/Los_Angeles:20250704T123000
DTSTAMP:20260416T173719
CREATED:20250618T222743Z
LAST-MODIFIED:20250623T204242Z
UID:10000010-1751628600-1751632200@www.missionhillstowncouncil.org
SUMMARY:4th of July Pie Contest
DESCRIPTION:Click here to enter the pie contest!
URL:https://www.missionhillstowncouncil.org/event/4th-of-july-pie-contest/
LOCATION:Pioneer Park\, 1521 Washington Pl\, San Diego\, CA\, 92103\, United States
CATEGORIES:4th of July
ATTACH;FMTTYPE=image/png:https://www.missionhillstowncouncil.org/wp-content/uploads/2017/03/fourth_300.png
END:VEVENT
BEGIN:VEVENT
DTSTART;TZID=America/Los_Angeles:20250704T100000
DTEND;TZID=America/Los_Angeles:20250704T110000
DTSTAMP:20260416T173719
CREATED:20250618T222943Z
LAST-MODIFIED:20250623T201523Z
UID:10000011-1751623200-1751626800@www.missionhillstowncouncil.org
SUMMARY:4th of July Celebration
DESCRIPTION:The Mission Hills Town Council puts on an annual 4th of July celebration in Mission Hills with a neighborhood parade that ends up in Pioneer Park.  The party continues with games for the kids and live music throughout the afternoon as families picnic in the grass. \nAt night\, residents head to the various neighborhood vista points to watch the fireworks light up the bay. \nSchedule of events: \n\nBike Parade (10:00am)\nCostume / Decorating Contest\nGames and Prizes\nPie Contest\nConcert
URL:https://www.missionhillstowncouncil.org/event/4th-of-july-celebration/
LOCATION:Pioneer Park\, 1521 Washington Pl\, San Diego\, CA\, 92103\, United States
CATEGORIES:4th of July
ATTACH;FMTTYPE=image/png:https://www.missionhillstowncouncil.org/wp-content/uploads/2017/03/fourth_300.png
END:VEVENT
END:VCALENDAR