BEGIN:VCALENDAR
VERSION:2.0
PRODID:-//Mission Hills Town Council - ECPv6.15.20//NONSGML v1.0//EN
CALSCALE:GREGORIAN
METHOD:PUBLISH
X-ORIGINAL-URL:https://www.missionhillstowncouncil.org
X-WR-CALDESC:Events for Mission Hills Town Council
REFRESH-INTERVAL;VALUE=DURATION:PT1H
X-Robots-Tag:noindex
X-PUBLISHED-TTL:PT1H
BEGIN:VTIMEZONE
TZID:America/Los_Angeles
BEGIN:DAYLIGHT
TZOFFSETFROM:-0800
TZOFFSETTO:-0700
TZNAME:PDT
DTSTART:20250309T100000
END:DAYLIGHT
BEGIN:STANDARD
TZOFFSETFROM:-0700
TZOFFSETTO:-0800
TZNAME:PST
DTSTART:20251102T090000
END:STANDARD
BEGIN:DAYLIGHT
TZOFFSETFROM:-0800
TZOFFSETTO:-0700
TZNAME:PDT
DTSTART:20260308T100000
END:DAYLIGHT
BEGIN:STANDARD
TZOFFSETFROM:-0700
TZOFFSETTO:-0800
TZNAME:PST
DTSTART:20261101T090000
END:STANDARD
BEGIN:DAYLIGHT
TZOFFSETFROM:-0800
TZOFFSETTO:-0700
TZNAME:PDT
DTSTART:20270314T100000
END:DAYLIGHT
BEGIN:STANDARD
TZOFFSETFROM:-0700
TZOFFSETTO:-0800
TZNAME:PST
DTSTART:20271107T090000
END:STANDARD
END:VTIMEZONE
BEGIN:VEVENT
DTSTART;TZID=America/Los_Angeles:20260709T180000
DTEND;TZID=America/Los_Angeles:20260709T200000
DTSTAMP:20260416T200016
CREATED:20260321T030105Z
LAST-MODIFIED:20260321T030105Z
UID:10000022-1783620000-1783627200@www.missionhillstowncouncil.org
SUMMARY:Town Hall Meeting
DESCRIPTION:Join the Mission Hills Town Council and your fellow Mission Hills residents at our Town Hall meeting\, held in person. Please mark your calendar to join us. \nLocation: \nSzekely Auditorium at Francis Parker School\, 4201 Randolph Street. \n 
URL:https://www.missionhillstowncouncil.org/event/town-hall-meeting-2026-07-09/
LOCATION:Francis Parker Lower School\, 4201 Randolph St\, San Diego\, CA\, 92103\, United States
CATEGORIES:MHTC Meetings,Town Hall Meetings
ATTACH;FMTTYPE=image/png:https://www.missionhillstowncouncil.org/wp-content/uploads/2017/03/town_300.png
END:VEVENT
BEGIN:VEVENT
DTSTART;TZID=America/Los_Angeles:20261008T180000
DTEND;TZID=America/Los_Angeles:20261008T200000
DTSTAMP:20260416T200016
CREATED:20260321T030127Z
LAST-MODIFIED:20260321T030127Z
UID:10000023-1791482400-1791489600@www.missionhillstowncouncil.org
SUMMARY:Town Hall Meeting
DESCRIPTION:Join the Mission Hills Town Council and your fellow Mission Hills residents at our Town Hall meeting\, held in person. Please mark your calendar to join us. \nLocation: \nSzekely Auditorium at Francis Parker School\, 4201 Randolph Street. \n 
URL:https://www.missionhillstowncouncil.org/event/town-hall-meeting-2026-10-08/
LOCATION:Francis Parker Lower School\, 4201 Randolph St\, San Diego\, CA\, 92103\, United States
CATEGORIES:MHTC Meetings,Town Hall Meetings
ATTACH;FMTTYPE=image/png:https://www.missionhillstowncouncil.org/wp-content/uploads/2017/03/town_300.png
END:VEVENT
END:VCALENDAR